BEGIN:VCALENDAR
VERSION:2.0
PRODID:-//Big Bruh&#039;s Seasoning - ECPv6.15.20//NONSGML v1.0//EN
CALSCALE:GREGORIAN
METHOD:PUBLISH
X-WR-CALNAME:Big Bruh&#039;s Seasoning
X-ORIGINAL-URL:https://bigbruhsseasoning.com
X-WR-CALDESC:Events for Big Bruh&#039;s Seasoning
REFRESH-INTERVAL;VALUE=DURATION:PT1H
X-Robots-Tag:noindex
X-PUBLISHED-TTL:PT1H
BEGIN:VTIMEZONE
TZID:America/Kentucky/Louisville
BEGIN:DAYLIGHT
TZOFFSETFROM:-0500
TZOFFSETTO:-0400
TZNAME:EDT
DTSTART:20230312T070000
END:DAYLIGHT
BEGIN:STANDARD
TZOFFSETFROM:-0400
TZOFFSETTO:-0500
TZNAME:EST
DTSTART:20231105T060000
END:STANDARD
BEGIN:DAYLIGHT
TZOFFSETFROM:-0500
TZOFFSETTO:-0400
TZNAME:EDT
DTSTART:20240310T070000
END:DAYLIGHT
BEGIN:STANDARD
TZOFFSETFROM:-0400
TZOFFSETTO:-0500
TZNAME:EST
DTSTART:20241103T060000
END:STANDARD
BEGIN:DAYLIGHT
TZOFFSETFROM:-0500
TZOFFSETTO:-0400
TZNAME:EDT
DTSTART:20250309T070000
END:DAYLIGHT
BEGIN:STANDARD
TZOFFSETFROM:-0400
TZOFFSETTO:-0500
TZNAME:EST
DTSTART:20251102T060000
END:STANDARD
END:VTIMEZONE
BEGIN:VEVENT
DTSTART;TZID=America/Kentucky/Louisville:20241117T110000
DTEND;TZID=America/Kentucky/Louisville:20241117T150000
DTSTAMP:20260422T171402
CREATED:20241029T234556Z
LAST-MODIFIED:20241029T234556Z
UID:1163-1731841200-1731855600@bigbruhsseasoning.com
SUMMARY:Grinch Christmas Bazaar
DESCRIPTION:Come on out and see us at the Grinch Christmas Bazaar. This will be held on November 17 from 11 AM until 3 PM in the Ascension School Gym located at 4600 Lynbrook Drive\, Louisville KY 40220.
URL:https://bigbruhsseasoning.com/eventcalendar/grinch-christmas-bazaar/
LOCATION:Ascension School Gym\, 4600 Lynbrook Drive\, Louisville\, KY\, 40220\, United States
CATEGORIES:Craft Fair
ATTACH;FMTTYPE=image/jpeg:https://bigbruhsseasoning.com/wp-content/uploads/2024/10/GrinchChristmasBazaar.jpg
END:VEVENT
END:VCALENDAR